BEGIN:VCALENDAR
VERSION:2.0
PRODID:-//One Pacific Place - ECPv6.15.17.1//NONSGML v1.0//EN
CALSCALE:GREGORIAN
METHOD:PUBLISH
X-ORIGINAL-URL:https://onepacificplace.com
X-WR-CALDESC:Events for One Pacific Place
REFRESH-INTERVAL;VALUE=DURATION:PT1H
X-Robots-Tag:noindex
X-PUBLISHED-TTL:PT1H
BEGIN:VTIMEZONE
TZID:America/Chicago
BEGIN:DAYLIGHT
TZOFFSETFROM:-0600
TZOFFSETTO:-0500
TZNAME:CDT
DTSTART:20220313T080000
END:DAYLIGHT
BEGIN:STANDARD
TZOFFSETFROM:-0500
TZOFFSETTO:-0600
TZNAME:CST
DTSTART:20221106T070000
END:STANDARD
BEGIN:DAYLIGHT
TZOFFSETFROM:-0600
TZOFFSETTO:-0500
TZNAME:CDT
DTSTART:20230312T080000
END:DAYLIGHT
BEGIN:STANDARD
TZOFFSETFROM:-0500
TZOFFSETTO:-0600
TZNAME:CST
DTSTART:20231105T070000
END:STANDARD
BEGIN:DAYLIGHT
TZOFFSETFROM:-0600
TZOFFSETTO:-0500
TZNAME:CDT
DTSTART:20240310T080000
END:DAYLIGHT
BEGIN:STANDARD
TZOFFSETFROM:-0500
TZOFFSETTO:-0600
TZNAME:CST
DTSTART:20241103T070000
END:STANDARD
END:VTIMEZONE
BEGIN:VEVENT
DTSTART;TZID=America/Chicago:20231214T083000
DTEND;TZID=America/Chicago:20231215T180000
DTSTAMP:20260423T073628
CREATED:20231213T205223Z
LAST-MODIFIED:20231213T212117Z
UID:10000038-1702542600-1702663200@onepacificplace.com
SUMMARY:Giving Tree Pay It Forward
DESCRIPTION:Join us at Cafe Botanica on December 14th and 15th for our festive Giving Tree event! Spread holiday cheer and pay it forward at Cafe Botanica! We want to make gifting this year easier for you! We will pick numbers at the beginning of each day and if the customers order matches the number they get to choose a gift card! For example\, if we choose #11\, then the 11th order of the day gets to choose a gift card. Let the joy of giving flourish this season! \nFeatured businesses at Cafe Botanica’s Omaha location include: – Carey Griffin Studio – Le Quartier Bakery – The Mix – Made in Omaha – Eddie Bauer – PLNK – Hand & Stone – Champion Golf – SPENGA (25 free session cards) AND MORE!! Send to your family and friends to spread some holiday cheer!
URL:https://onepacificplace.com/event/giving-tree-pay-it-forward/
ATTACH;FMTTYPE=image/jpeg:https://onepacificplace.com/wp-content/uploads/2023/12/144333697_cafe-botanica-giving-tree-lincoln-omaha.jpeg
END:VEVENT
BEGIN:VEVENT
DTSTART;TZID=America/Chicago:20231214T100000
DTEND;TZID=America/Chicago:20231214T190000
DTSTAMP:20260423T073628
CREATED:20231213T205433Z
LAST-MODIFIED:20231213T205433Z
UID:10000039-1702548000-1702580400@onepacificplace.com
SUMMARY:Chico's Donation Drive
DESCRIPTION:Visit Chico’s on December 14th for 30% OFF almost EVERYTHING in the store. PLUS\, enjoy an additional 10% OFF and submission into their drawing for a Winter gift basket when you bring in new hats\, gloves and/or socks to be donated to the Open Door Mission.
URL:https://onepacificplace.com/event/chicos-donation-drive/
ATTACH;FMTTYPE=image/jpeg:https://onepacificplace.com/wp-content/uploads/2023/12/GettyImages-1438297783.jpg
END:VEVENT
END:VCALENDAR