BEGIN:VCALENDAR
VERSION:2.0
PRODID:-//One Pacific Place - ECPv6.15.17.1//NONSGML v1.0//EN
CALSCALE:GREGORIAN
METHOD:PUBLISH
X-WR-CALNAME:One Pacific Place
X-ORIGINAL-URL:https://onepacificplace.com
X-WR-CALDESC:Events for One Pacific Place
REFRESH-INTERVAL;VALUE=DURATION:PT1H
X-Robots-Tag:noindex
X-PUBLISHED-TTL:PT1H
BEGIN:VTIMEZONE
TZID:America/Chicago
BEGIN:DAYLIGHT
TZOFFSETFROM:-0600
TZOFFSETTO:-0500
TZNAME:CDT
DTSTART:20230312T080000
END:DAYLIGHT
BEGIN:STANDARD
TZOFFSETFROM:-0500
TZOFFSETTO:-0600
TZNAME:CST
DTSTART:20231105T070000
END:STANDARD
BEGIN:DAYLIGHT
TZOFFSETFROM:-0600
TZOFFSETTO:-0500
TZNAME:CDT
DTSTART:20240310T080000
END:DAYLIGHT
BEGIN:STANDARD
TZOFFSETFROM:-0500
TZOFFSETTO:-0600
TZNAME:CST
DTSTART:20241103T070000
END:STANDARD
BEGIN:DAYLIGHT
TZOFFSETFROM:-0600
TZOFFSETTO:-0500
TZNAME:CDT
DTSTART:20250309T080000
END:DAYLIGHT
BEGIN:STANDARD
TZOFFSETFROM:-0500
TZOFFSETTO:-0600
TZNAME:CST
DTSTART:20251102T070000
END:STANDARD
END:VTIMEZONE
BEGIN:VEVENT
DTSTART;TZID=America/Chicago:20241130T110000
DTEND;TZID=America/Chicago:20241130T130000
DTSTAMP:20260422T113212
CREATED:20241114T200923Z
LAST-MODIFIED:20241114T200923Z
UID:10000051-1732964400-1732971600@onepacificplace.com
SUMMARY:LINK x LOU 14K Gold Permanent Jewelry Pop-Up @ Five Salon
DESCRIPTION:Five Salon is hosting a LINK x LOU 14K gold permanent jewelry pop-up event on Saturday\, November 30th from 11am to 1pm. Reserve your spot to get linked!
URL:https://onepacificplace.com/event/link-x-lou-14k-gold-permanent-jewelry-pop-up-five-salon/
ATTACH;FMTTYPE=image/jpeg:https://onepacificplace.com/wp-content/uploads/2024/11/link-and-lou.jpg
END:VEVENT
END:VCALENDAR