BEGIN:VCALENDAR
VERSION:2.0
PRODID:-//One Pacific Place - ECPv6.15.17.1//NONSGML v1.0//EN
CALSCALE:GREGORIAN
METHOD:PUBLISH
X-ORIGINAL-URL:https://onepacificplace.com
X-WR-CALDESC:Events for One Pacific Place
REFRESH-INTERVAL;VALUE=DURATION:PT1H
X-Robots-Tag:noindex
X-PUBLISHED-TTL:PT1H
BEGIN:VTIMEZONE
TZID:America/Chicago
BEGIN:DAYLIGHT
TZOFFSETFROM:-0600
TZOFFSETTO:-0500
TZNAME:CDT
DTSTART:20240310T080000
END:DAYLIGHT
BEGIN:STANDARD
TZOFFSETFROM:-0500
TZOFFSETTO:-0600
TZNAME:CST
DTSTART:20241103T070000
END:STANDARD
BEGIN:DAYLIGHT
TZOFFSETFROM:-0600
TZOFFSETTO:-0500
TZNAME:CDT
DTSTART:20250309T080000
END:DAYLIGHT
BEGIN:STANDARD
TZOFFSETFROM:-0500
TZOFFSETTO:-0600
TZNAME:CST
DTSTART:20251102T070000
END:STANDARD
BEGIN:DAYLIGHT
TZOFFSETFROM:-0600
TZOFFSETTO:-0500
TZNAME:CDT
DTSTART:20260308T080000
END:DAYLIGHT
BEGIN:STANDARD
TZOFFSETFROM:-0500
TZOFFSETTO:-0600
TZNAME:CST
DTSTART:20261101T070000
END:STANDARD
END:VTIMEZONE
BEGIN:VEVENT
DTSTART;VALUE=DATE:20250203
DTEND;VALUE=DATE:20250411
DTSTAMP:20260420T053438
CREATED:20250101T020203Z
LAST-MODIFIED:20250102T182943Z
UID:10000053-1738540800-1744329599@onepacificplace.com
SUMMARY:Kids Summer Series Cooking Class Program at Sur La Table
DESCRIPTION:Treat your budding chefs to an unforgettable culinary experience in Sur La Table’s Kids & Teens Summer Series! With sessions designed for kids aged 7-11 and teens aged 12-17\, there’s something for everyone to have a fun and delicious summer. Over the course of multiple days\, your kids and teens will be guided by a chef instructor as they learn essential cooking and baking techniques\, food prep skills and best practices for kitchen safety. At the end of the week\, each student departs with a certificate\, menu\, an apron and a 10% off coupon for an in-store purchase during their series. To learn more and book your session\, visit Sur La Table in-store today.
URL:https://onepacificplace.com/event/kids-summer-series-cooking-class-program-at-sur-la-table/
ATTACH;FMTTYPE=image/jpeg:https://onepacificplace.com/wp-content/uploads/2024/12/Sur-La-Table-Campaign-115-Kids-Summer-Series-Cooking-Class-Program-at-Sur-La-Table-EN-1080x1080-1.jpg
END:VEVENT
BEGIN:VEVENT
DTSTART;TZID=America/Chicago:20250215T110000
DTEND;TZID=America/Chicago:20250215T140000
DTSTAMP:20260420T053438
CREATED:20250214T165345Z
LAST-MODIFIED:20250214T165345Z
UID:10000055-1739617200-1739628000@onepacificplace.com
SUMMARY:Pop Up Charm Event @ Five Salon!
DESCRIPTION:Stop into Five Salon this Saturday from 11-2 and create your own charm bracelets or necklaces! See you there!
URL:https://onepacificplace.com/event/pop-up-charm-event-five-salon/
ATTACH;FMTTYPE=image/jpeg:https://onepacificplace.com/wp-content/uploads/2025/02/charm.jpg
END:VEVENT
END:VCALENDAR