BEGIN:VCALENDAR
VERSION:2.0
PRODID:-//One Pacific Place - ECPv6.15.17.1//NONSGML v1.0//EN
CALSCALE:GREGORIAN
METHOD:PUBLISH
X-WR-CALNAME:One Pacific Place
X-ORIGINAL-URL:https://onepacificplace.com
X-WR-CALDESC:Events for One Pacific Place
REFRESH-INTERVAL;VALUE=DURATION:PT1H
X-Robots-Tag:noindex
X-PUBLISHED-TTL:PT1H
BEGIN:VTIMEZONE
TZID:America/Chicago
BEGIN:DAYLIGHT
TZOFFSETFROM:-0600
TZOFFSETTO:-0500
TZNAME:CDT
DTSTART:20240310T080000
END:DAYLIGHT
BEGIN:STANDARD
TZOFFSETFROM:-0500
TZOFFSETTO:-0600
TZNAME:CST
DTSTART:20241103T070000
END:STANDARD
BEGIN:DAYLIGHT
TZOFFSETFROM:-0600
TZOFFSETTO:-0500
TZNAME:CDT
DTSTART:20250309T080000
END:DAYLIGHT
BEGIN:STANDARD
TZOFFSETFROM:-0500
TZOFFSETTO:-0600
TZNAME:CST
DTSTART:20251102T070000
END:STANDARD
BEGIN:DAYLIGHT
TZOFFSETFROM:-0600
TZOFFSETTO:-0500
TZNAME:CDT
DTSTART:20260308T080000
END:DAYLIGHT
BEGIN:STANDARD
TZOFFSETFROM:-0500
TZOFFSETTO:-0600
TZNAME:CST
DTSTART:20261101T070000
END:STANDARD
END:VTIMEZONE
BEGIN:VEVENT
DTSTART;TZID=America/Chicago:20250423T100000
DTEND;TZID=America/Chicago:20250515T190000
DTSTAMP:20260420T121628
CREATED:20250417T193852Z
LAST-MODIFIED:20250411T195549Z
UID:10000059-1745402400-1747335600@onepacificplace.com
SUMMARY:Mother's Day Cooking Classes at Sur La Table
DESCRIPTION:Mother’s Day is May 11—celebrate Mom with an unforgettable culinary experience in-store at Sur La Table! With cooking classes designed to delight Mom on her day of celebration\, there’s a class to fit any mom’s taste. For the mom who loves to bake\, join our ‘Elegant Macarons for Mom’ class or pick from a wide selection of hands-on baking classes. If mom wants everyone to join in on the fun\, look to our ‘Family Fun: Mother’s Day Treats’ class or other Family Fun offerings. Or treat her to a lovely and delicious brunch in our ‘Mother’s Day Brunch featuring All-Clad’ class. No matter what class you select\, mom will love the time spent creating delicious memories together. Visit us in-store to sign up or learn more from a Brand Specialist.
URL:https://onepacificplace.com/event/mothers-day-cooking-classes-at-sur-la-table/
ATTACH;FMTTYPE=image/jpeg:https://onepacificplace.com/wp-content/uploads/2025/04/Sur-La-Table-Campaign-121-Mothers-Day-Cooking-Classes-at-Sur-La-Table-EN-1080x1080-1.jpg
END:VEVENT
BEGIN:VEVENT
DTSTART;TZID=America/Chicago:20250515T100000
DTEND;TZID=America/Chicago:20250622T170000
DTSTAMP:20260420T121628
CREATED:20250514T170057Z
LAST-MODIFIED:20250514T170057Z
UID:10000060-1747303200-1750611600@onepacificplace.com
SUMMARY:Kids & Teens Summer Series Cooking Program at Sur La Table
DESCRIPTION:With Summer around the corner\, seats are filling quick — treat your budding chefs to an unforgettable culinary experience in Sur La Table’s Kids & Teens Summer Series! With sessions for kids aged 7-11 and teens aged 12-17\, there’s something for everyone to have a fun and delicious summer. Over the course of five days\, your kids and teens will be guided by a chef instructor as they learn essential cooking and baking techniques around a topic\, food prep skills and best practices in the kitchen. At the end of the week\, each student will go home with a printed menu\, graduation certificate\, an apron and a special offer. Visit us in-store today to learn more. Booking available online.
URL:https://onepacificplace.com/event/kids-teens-summer-series-cooking-program-at-sur-la-table/
ATTACH;FMTTYPE=image/jpeg:https://onepacificplace.com/wp-content/uploads/2025/05/Sur-La-Table-Campaign-124-Kids-Teens-Summer-Series-Cooking-Program-at-Sur-La-Table-EN-1080x1080-1.jpg
END:VEVENT
END:VCALENDAR